BEGIN:VCALENDAR
VERSION:2.0
PRODID:-//Webpicking - ECPv4.6.26.1//NONSGML v1.0//EN
CALSCALE:GREGORIAN
METHOD:PUBLISH
X-WR-CALNAME:Webpicking
X-ORIGINAL-URL:https://webpicking.com
X-WR-CALDESC:Eventos para Webpicking
BEGIN:VEVENT
DTSTART;VALUE=DATE:20260512
DTEND;VALUE=DATE:20260515
DTSTAMP:20260421T122252
CREATED:20260317T032956Z
LAST-MODIFIED:20260317T032956Z
UID:40314-1778544000-1778803199@webpicking.com
SUMMARY:12° World Free Zones Organization Congress
DESCRIPTION:
URL:https://webpicking.com/event/12-world-free-zones-organization-congress/
LOCATION:Consultar al organizador – PAN\, Panamá\, Panamá
CATEGORIES:PANAMÁ
END:VEVENT
END:VCALENDAR