BEGIN:VCALENDAR
VERSION:2.0
PRODID:-//Webpicking - ECPv4.6.26.1//NONSGML v1.0//EN
CALSCALE:GREGORIAN
METHOD:PUBLISH
X-WR-CALNAME:Webpicking
X-ORIGINAL-URL:https://webpicking.com
X-WR-CALDESC:Eventos para Webpicking
BEGIN:VEVENT
DTSTART;TZID=America/Argentina/Buenos_Aires:20221128T080000
DTEND;TZID=America/Argentina/Buenos_Aires:20221130T170000
DTSTAMP:20260424T181553
CREATED:20220304T152808Z
LAST-MODIFIED:20220304T152808Z
UID:28337-1669622400-1669827600@webpicking.com
SUMMARY:30° Congreso Latinoamericano de Puertos
DESCRIPTION:
URL:https://webpicking.com/event/30-congreso-latinoamericano-de-puertos/
LOCATION:Consultar al ogranizador – SANTOS
CATEGORIES:BRASIL
ORGANIZER;CN="Asociaci%C3%B3n%20Americana%20de%20Autoridades%20Portuarias":MAILTO:info@aapa-ports.org
END:VEVENT
END:VCALENDAR