BEGIN:VCALENDAR
VERSION:2.0
PRODID:-//Webpicking - ECPv4.6.26.1//NONSGML v1.0//EN
CALSCALE:GREGORIAN
METHOD:PUBLISH
X-WR-CALNAME:Webpicking
X-ORIGINAL-URL:https://webpicking.com
X-WR-CALDESC:Eventos para Webpicking
BEGIN:VEVENT
DTSTART;VALUE=DATE:20260226
DTEND;VALUE=DATE:20260227
DTSTAMP:20260422T050109
CREATED:20260122T055717Z
LAST-MODIFIED:20260122T055717Z
UID:40001-1772064000-1772150399@webpicking.com
SUMMARY:Programa de Desarrollo Gerencial en Cadena de Valor
DESCRIPTION:
URL:https://webpicking.com/event/programa-de-desarrollo-gerencial-en-cadena-de-valor-2/
LOCATION:Online
CATEGORIES:ARGENTINA
ORGANIZER;CN="GS1%20Argentina":MAILTO:capacitacion@gs1.org.ar
END:VEVENT
END:VCALENDAR