BEGIN:VCALENDAR
VERSION:2.0
PRODID:-//Webpicking - ECPv4.6.26.1//NONSGML v1.0//EN
CALSCALE:GREGORIAN
METHOD:PUBLISH
X-WR-CALNAME:Webpicking
X-ORIGINAL-URL:https://webpicking.com
X-WR-CALDESC:Eventos para Webpicking
BEGIN:VEVENT
DTSTART;VALUE=DATE:20250515
DTEND;VALUE=DATE:20250516
DTSTAMP:20260422T233126
CREATED:20250324T170106Z
LAST-MODIFIED:20250324T170106Z
UID:37875-1747267200-1747353599@webpicking.com
SUMMARY:2° Salón Inmobiliario Corredor Norte
DESCRIPTION:
URL:https://webpicking.com/event/2-salon-inmobiliario-corredor-norte/
LOCATION:Sofitel La Reserva Cardales\, Ruta Panamericana Nº 9 Km 61\, Campana\, Buenos Aires\, 2804\, Argentina
CATEGORIES:ARGENTINA
END:VEVENT
END:VCALENDAR