BEGIN:VCALENDAR
VERSION:2.0
PRODID:-//Webpicking - ECPv4.6.26.1//NONSGML v1.0//EN
CALSCALE:GREGORIAN
METHOD:PUBLISH
X-WR-CALNAME:Webpicking
X-ORIGINAL-URL:https://webpicking.com
X-WR-CALDESC:Eventos para Webpicking
BEGIN:VEVENT
DTSTART;VALUE=DATE:20230829
DTEND;VALUE=DATE:20230830
DTSTAMP:20260422T050736
CREATED:20230822T182342Z
LAST-MODIFIED:20230822T182342Z
UID:33046-1693267200-1693353599@webpicking.com
SUMMARY:Webinar: costos logísticos regionales by ALALOG
DESCRIPTION:
URL:https://webpicking.com/event/webinar-costos-logisticos-regionales-by-alalog/
LOCATION:Online
CATEGORIES:Online
ORGANIZER;CN="Asociaci%C3%B3n%20Argentina%20de%20Log%C3%ADstica%20Empresaria%20%28ARLOG%29":MAILTO:edu@arlog.org
END:VEVENT
END:VCALENDAR