BEGIN:VCALENDAR
VERSION:2.0
PRODID:-//Webpicking - ECPv4.6.26.1//NONSGML v1.0//EN
CALSCALE:GREGORIAN
METHOD:PUBLISH
X-WR-CALNAME:Webpicking
X-ORIGINAL-URL:https://webpicking.com
X-WR-CALDESC:Eventos para Webpicking
BEGIN:VEVENT
DTSTART;VALUE=DATE:20230816
DTEND;VALUE=DATE:20230817
DTSTAMP:20260423T090621
CREATED:20230729T023858Z
LAST-MODIFIED:20230729T023858Z
UID:32826-1692144000-1692230399@webpicking.com
SUMMARY:Seminario: Costo de una Importación
DESCRIPTION:
URL:https://webpicking.com/event/seminario-costo-de-una-importacion/
LOCATION:Online
CATEGORIES:ARGENTINA
END:VEVENT
BEGIN:VEVENT
DTSTART;VALUE=DATE:20230816
DTEND;VALUE=DATE:20230818
DTSTAMP:20260423T090621
CREATED:20230814T040910Z
LAST-MODIFIED:20230814T040910Z
UID:32946-1692144000-1692316799@webpicking.com
SUMMARY:Expo Real Estate Argentina
DESCRIPTION:
URL:https://webpicking.com/event/expo-real-estate-argentina/
LOCATION:Consultar al organizador – BsAs\, Ciudad Autónoma de Buenos Aires\, Argentina
CATEGORIES:ARGENTINA
END:VEVENT
END:VCALENDAR