BEGIN:VCALENDAR
VERSION:2.0
PRODID:-//Webpicking - ECPv4.6.26.1//NONSGML v1.0//EN
CALSCALE:GREGORIAN
METHOD:PUBLISH
X-WR-CALNAME:Webpicking
X-ORIGINAL-URL:https://webpicking.com
X-WR-CALDESC:Eventos para Webpicking
BEGIN:VEVENT
DTSTART;VALUE=DATE:20230807
DTEND;VALUE=DATE:20230811
DTSTAMP:20260423T025758
CREATED:20230531T011954Z
LAST-MODIFIED:20230531T011954Z
UID:32329-1691366400-1691711999@webpicking.com
SUMMARY:Programa de liderazgo femenino para el sector marítimo-portuario
DESCRIPTION:
URL:https://webpicking.com/event/programa-de-liderazgo-femenino-para-el-sector-maritimo-portuario/
LOCATION:Consultar al organizador – PAN\, Panamá\, Panamá
CATEGORIES:PANAMÁ
END:VEVENT
BEGIN:VEVENT
DTSTART;VALUE=DATE:20230809
DTEND;VALUE=DATE:20230810
DTSTAMP:20260423T025758
CREATED:20230727T170817Z
LAST-MODIFIED:20230727T170817Z
UID:32804-1691539200-1691625599@webpicking.com
SUMMARY:Seminario: Normas de Exterior y Cambios
DESCRIPTION:
URL:https://webpicking.com/event/seminario-normas-de-exterior-y-cambios/
LOCATION:Online
CATEGORIES:ARGENTINA
END:VEVENT
END:VCALENDAR