BEGIN:VCALENDAR
VERSION:2.0
PRODID:-//Webpicking - ECPv4.6.26.1//NONSGML v1.0//EN
CALSCALE:GREGORIAN
METHOD:PUBLISH
X-WR-CALNAME:Webpicking
X-ORIGINAL-URL:https://webpicking.com
X-WR-CALDESC:Eventos para Webpicking
BEGIN:VEVENT
DTSTART;VALUE=DATE:20230523
DTEND;VALUE=DATE:20230524
DTSTAMP:20260426T034108
CREATED:20230508T004021Z
LAST-MODIFIED:20230508T004021Z
UID:32157-1684800000-1684886399@webpicking.com
SUMMARY:Presentación del libro “Elementos de Planificación Portuaria”
DESCRIPTION:
URL:https://webpicking.com/event/presentacion-del-libro-elementos-de-planificacion-portuaria/
LOCATION:Consultar al organizador – BsAs\, Ciudad Autónoma de Buenos Aires\, Argentina
CATEGORIES:ARGENTINA
ORGANIZER;CN="Asociaci%C3%B3n%20Argentina%20de%20Ingenieros%20Portuarios":MAILTO:cdoc@aadip.org.ar
END:VEVENT
BEGIN:VEVENT
DTSTART;VALUE=DATE:20230523
DTEND;VALUE=DATE:20230524
DTSTAMP:20260426T034108
CREATED:20230510T034103Z
LAST-MODIFIED:20230510T034103Z
UID:32179-1684800000-1684886399@webpicking.com
SUMMARY:Programa de formación integral para supervisores
DESCRIPTION:
URL:https://webpicking.com/event/programa-de-formacion-integral-para-supervisores-2/
LOCATION:Online
CATEGORIES:ARGENTINA
ORGANIZER;CN="Asociaci%C3%B3n%20Argentina%20de%20Log%C3%ADstica%20Empresaria%20%28ARLOG%29":MAILTO:edu@arlog.org
END:VEVENT
END:VCALENDAR