BEGIN:VCALENDAR
VERSION:2.0
PRODID:-//Webpicking - ECPv4.6.26.1//NONSGML v1.0//EN
CALSCALE:GREGORIAN
METHOD:PUBLISH
X-WR-CALNAME:Webpicking
X-ORIGINAL-URL:https://webpicking.com
X-WR-CALDESC:Eventos para Webpicking
BEGIN:VEVENT
DTSTART;VALUE=DATE:20200212
DTEND;VALUE=DATE:20200213
DTSTAMP:20260421T144308
CREATED:20200128T035151Z
LAST-MODIFIED:20200128T035151Z
UID:19045-1581465600-1581551999@webpicking.com
SUMMARY:Workshop: Código de Barras
DESCRIPTION:
URL:https://webpicking.com/event/workshop-codigo-de-barras/
LOCATION:Consultar al organizador – BsAs\, Ciudad Autónoma de Buenos Aires\, Argentina
CATEGORIES:ARGENTINA
ORGANIZER;CN="GS1%20Argentina":MAILTO:capacitacion@gs1.org.ar
END:VEVENT
END:VCALENDAR