BEGIN:VCALENDAR
VERSION:2.0
PRODID:-//Webpicking - ECPv4.6.26.1//NONSGML v1.0//EN
CALSCALE:GREGORIAN
METHOD:PUBLISH
X-WR-CALNAME:Webpicking
X-ORIGINAL-URL:https://webpicking.com
X-WR-CALDESC:Eventos para Webpicking
BEGIN:VEVENT
DTSTART;VALUE=DATE:20200603
DTEND;VALUE=DATE:20200604
DTSTAMP:20260420T091122
CREATED:20200520T233534Z
LAST-MODIFIED:20200520T233534Z
UID:20464-1591142400-1591228799@webpicking.com
SUMMARY:Webinar: Seguridad en el Transporte de Mercancías
DESCRIPTION:
URL:https://webpicking.com/event/webinar-seguridad-en-el-transporte-de-mercancias/
LOCATION:Online
CATEGORIES:Online
ORGANIZER;CN="Reed%20Exhibitions":MAILTO:info@ecommsummitexpo.com
END:VEVENT
END:VCALENDAR