BEGIN:VCALENDAR
VERSION:2.0
PRODID:-//Webpicking - ECPv4.6.26.1//NONSGML v1.0//EN
CALSCALE:GREGORIAN
METHOD:PUBLISH
X-WR-CALNAME:Webpicking
X-ORIGINAL-URL:https://webpicking.com
X-WR-CALDESC:Eventos para Webpicking
BEGIN:VEVENT
DTSTART;TZID=America/Bogota:20170420T100000
DTEND;TZID=America/Bogota:20170420T113000
DTSTAMP:20260420T062621
CREATED:20170406T151912Z
LAST-MODIFIED:20170408T041225Z
UID:7131-1492682400-1492687800@webpicking.com
SUMMARY:Webinar: ¿Porque improvisar cuando puede optimizar? Gánele a su competencia con rediseño de su supply chain?
DESCRIPTION:
URL:https://webpicking.com/event/webinar-porque-improvisar-cuando-puede-optimizar-ganele-a-su-competencia-con-rediseno-de-su-supply-chain/
CATEGORIES:Online
ORGANIZER;CN="SDI%20SYSTEMS":MAILTO:educacion@sdi.systems
END:VEVENT
END:VCALENDAR