BEGIN:VCALENDAR
VERSION:2.0
PRODID:-//Webpicking - ECPv4.6.26.1//NONSGML v1.0//EN
CALSCALE:GREGORIAN
METHOD:PUBLISH
X-WR-CALNAME:Webpicking
X-ORIGINAL-URL:https://webpicking.com
X-WR-CALDESC:Eventos para Webpicking
BEGIN:VEVENT
DTSTART;VALUE=DATE:20160426
DTEND;VALUE=DATE:20160427
DTSTAMP:20260425T022815
CREATED:20160407T145132Z
LAST-MODIFIED:20160407T145132Z
UID:1161-1461628800-1461715199@webpicking.com
SUMMARY:Webinar: Cadena de suministro determinada por la demanda - SDI
DESCRIPTION:
URL:https://webpicking.com/event/webinar-cadena-de-suministro-determinada-por-la-demanda-sdi/
LOCATION:Online
ORGANIZER;CN="SDI%20SYSTEMS":MAILTO:educacion@sdi.systems
END:VEVENT
END:VCALENDAR