BEGIN:VCALENDAR
VERSION:2.0
PRODID:-//Webpicking - ECPv4.6.26.1//NONSGML v1.0//EN
CALSCALE:GREGORIAN
METHOD:PUBLISH
X-WR-CALNAME:Webpicking
X-ORIGINAL-URL:https://webpicking.com
X-WR-CALDESC:Eventos para Webpicking
BEGIN:VEVENT
DTSTART;VALUE=DATE:20230222
DTEND;VALUE=DATE:20230223
DTSTAMP:20260419T204924
CREATED:20230130T173849Z
LAST-MODIFIED:20230130T173849Z
UID:31566-1677024000-1677110399@webpicking.com
SUMMARY:Taller: Indicadores de gestión logística
DESCRIPTION:
URL:https://webpicking.com/event/taller-indicadores-de-gestion-logistica-2/
LOCATION:Online
CATEGORIES:Online
ORGANIZER;CN="High%20Logistic%20Group":MAILTO:logistics@logisticaonline.com
END:VEVENT
END:VCALENDAR