BEGIN:VCALENDAR
VERSION:2.0
PRODID:-//Webpicking - ECPv4.6.26.1//NONSGML v1.0//EN
CALSCALE:GREGORIAN
METHOD:PUBLISH
X-WR-CALNAME:Webpicking
X-ORIGINAL-URL:https://webpicking.com
X-WR-CALDESC:Eventos para Webpicking
BEGIN:VEVENT
DTSTART;TZID=America/Argentina/Buenos_Aires:20170425T000000
DTEND;TZID=America/Argentina/Buenos_Aires:20170425T000000
DTSTAMP:20260425T213452
CREATED:20170307T041250Z
LAST-MODIFIED:20170307T041250Z
UID:6706-1493078400-1493078400@webpicking.com
SUMMARY:Simposio online de Logística y Competitividad
DESCRIPTION:
URL:https://webpicking.com/event/simposio-online-de-logistica-y-competitividad/
CATEGORIES:COLOMBIA
END:VEVENT
END:VCALENDAR