BEGIN:VCALENDAR
VERSION:2.0
PRODID:-//Webpicking - ECPv4.6.26.1//NONSGML v1.0//EN
CALSCALE:GREGORIAN
METHOD:PUBLISH
X-WR-CALNAME:Webpicking
X-ORIGINAL-URL:https://webpicking.com
X-WR-CALDESC:Eventos para Webpicking
BEGIN:VEVENT
DTSTART;VALUE=DATE:20160809
DTEND;VALUE=DATE:20160810
DTSTAMP:20260420T090531
CREATED:20160729T012440Z
LAST-MODIFIED:20160729T012440Z
UID:2755-1470700800-1470787199@webpicking.com
SUMMARY:Seminario: Simulación fácil y exitosa. Introducción al modelamiento con FlexSim
DESCRIPTION:
URL:https://webpicking.com/event/seminario-simulacion-facil-y-exitosa-introduccion-al-modelamiento-con-flexsim/
LOCATION:Online
CATEGORIES:Online
ORGANIZER;CN="SDI%20SYSTEMS":MAILTO:educacion@sdi.systems
END:VEVENT
END:VCALENDAR