BEGIN:VCALENDAR
VERSION:2.0
PRODID:-//Webpicking - ECPv4.6.26.1//NONSGML v1.0//EN
CALSCALE:GREGORIAN
METHOD:PUBLISH
X-WR-CALNAME:Webpicking
X-ORIGINAL-URL:https://webpicking.com
X-WR-CALDESC:Eventos para Webpicking
BEGIN:VEVENT
DTSTART;VALUE=DATE:20190821
DTEND;VALUE=DATE:20190822
DTSTAMP:20260423T171605
CREATED:20190711T181749Z
LAST-MODIFIED:20190711T181749Z
UID:17118-1566345600-1566431999@webpicking.com
SUMMARY:Seminario: Proyectos de Participación Publico Privada
DESCRIPTION:
URL:https://webpicking.com/event/seminario-proyectos-de-participacion-publico-privada/
LOCATION:Consultar al organizador – LP\, La Plata\, Argentina
CATEGORIES:ARGENTINA
END:VEVENT
END:VCALENDAR