BEGIN:VCALENDAR
VERSION:2.0
PRODID:-//Webpicking - ECPv4.6.26.1//NONSGML v1.0//EN
CALSCALE:GREGORIAN
METHOD:PUBLISH
X-WR-CALNAME:Webpicking
X-ORIGINAL-URL:https://webpicking.com
X-WR-CALDESC:Eventos para Webpicking
BEGIN:VEVENT
DTSTART;VALUE=DATE:20160421
DTEND;VALUE=DATE:20160422
DTSTAMP:20260425T125701
CREATED:20160306T025012Z
LAST-MODIFIED:20160306T025012Z
UID:588-1461196800-1461283199@webpicking.com
SUMMARY:Seminario: Optimiza tu Rendimiento y el de tu Equipo - Fundación ICIL
DESCRIPTION:
URL:https://webpicking.com/event/seminario-optimiza-tu-rendimiento-y-el-de-tu-equipo-fundacion-icil/
LOCATION:Consultar al organizador – BCN\, Barcelona\, España
CATEGORIES:ESPAÑA
ORGANIZER;CN="Fundaci%C3%B3n%20ICIL":MAILTO:barcelona@icil.org, madrid@icil.org, bilbao@icil.org
END:VEVENT
END:VCALENDAR