BEGIN:VCALENDAR
VERSION:2.0
PRODID:-//Webpicking - ECPv4.6.26.1//NONSGML v1.0//EN
CALSCALE:GREGORIAN
METHOD:PUBLISH
X-WR-CALNAME:Webpicking
X-ORIGINAL-URL:https://webpicking.com
X-WR-CALDESC:Eventos para Webpicking
BEGIN:VEVENT
DTSTART;VALUE=DATE:20160502
DTEND;VALUE=DATE:20160503
DTSTAMP:20260424T232943
CREATED:20160422T173151Z
LAST-MODIFIED:20160422T173151Z
UID:1442-1462147200-1462233599@webpicking.com
SUMMARY:Seminario: Logística de Repuestos y Materiales de Mantenimiento - Tanzer Consultores
DESCRIPTION:
URL:https://webpicking.com/event/seminario-logistica-de-repuestos-y-materiales-de-mantenimiento-tanzer-consultores/
LOCATION:Consultar al organizador – BsAs\, Ciudad Autónoma de Buenos Aires\, Argentina
CATEGORIES:ARGENTINA
ORGANIZER;CN="Tanzer%20Consultores":MAILTO:pablotanzer@hotmail.com
END:VEVENT
END:VCALENDAR