BEGIN:VCALENDAR
VERSION:2.0
PRODID:-//Webpicking - ECPv4.6.26.1//NONSGML v1.0//EN
CALSCALE:GREGORIAN
METHOD:PUBLISH
X-WR-CALNAME:Webpicking
X-ORIGINAL-URL:https://webpicking.com
X-WR-CALDESC:Eventos para Webpicking
BEGIN:VEVENT
DTSTART;VALUE=DATE:20170913
DTEND;VALUE=DATE:20170916
DTSTAMP:20260424T160424
CREATED:20170815T053204Z
LAST-MODIFIED:20170815T053204Z
UID:8811-1505260800-1505519999@webpicking.com
SUMMARY:Seminario de Finanzas para Profesionales Portuarios
DESCRIPTION:
URL:https://webpicking.com/event/seminario-de-finanzas-para-profesionales-portuarios/
LOCATION:Consultar al organizador – BsAs\, Ciudad Autónoma de Buenos Aires\, Argentina
CATEGORIES:ARGENTINA
ORGANIZER;CN="Asociaci%C3%B3n%20Americana%20de%20Autoridades%20Portuarias":MAILTO:info@aapa-ports.org
END:VEVENT
END:VCALENDAR