BEGIN:VCALENDAR
VERSION:2.0
PRODID:-//Webpicking - ECPv4.6.26.1//NONSGML v1.0//EN
CALSCALE:GREGORIAN
METHOD:PUBLISH
X-WR-CALNAME:Webpicking
X-ORIGINAL-URL:https://webpicking.com
X-WR-CALDESC:Eventos para Webpicking
BEGIN:VEVENT
DTSTART;VALUE=DATE:20160722
DTEND;VALUE=DATE:20160723
DTSTAMP:20260423T205715
CREATED:20160715T221215Z
LAST-MODIFIED:20160715T221215Z
UID:2602-1469145600-1469231999@webpicking.com
SUMMARY:Seminario: Administración de Inventarios - IEEC
DESCRIPTION:
URL:https://webpicking.com/event/seminario-administracion-de-inventarios-ieec/
LOCATION:Consultar al organizador – BsAs\, Ciudad Autónoma de Buenos Aires\, Argentina
CATEGORIES:ARGENTINA
ORGANIZER;CN="IEEC":MAILTO:admisiones@ieec.edu.ar
END:VEVENT
END:VCALENDAR