BEGIN:VCALENDAR
VERSION:2.0
PRODID:-//Webpicking - ECPv4.6.26.1//NONSGML v1.0//EN
CALSCALE:GREGORIAN
METHOD:PUBLISH
X-WR-CALNAME:Webpicking
X-ORIGINAL-URL:https://webpicking.com
X-WR-CALDESC:Eventos para Webpicking
BEGIN:VEVENT
DTSTART;TZID=America/Argentina/Buenos_Aires:20170610T000000
DTEND;TZID=America/Argentina/Buenos_Aires:20170620T000000
DTSTAMP:20260422T010446
CREATED:20170602T205354Z
LAST-MODIFIED:20170602T205354Z
UID:7842-1497052800-1497916800@webpicking.com
SUMMARY:Salón Internacional del Automóvil
DESCRIPTION:
URL:https://webpicking.com/event/salon-internacional-del-automovil/
CATEGORIES:ARGENTINA
END:VEVENT
END:VCALENDAR