BEGIN:VCALENDAR
VERSION:2.0
PRODID:-//Webpicking - ECPv4.6.26.1//NONSGML v1.0//EN
CALSCALE:GREGORIAN
METHOD:PUBLISH
X-WR-CALNAME:Webpicking
X-ORIGINAL-URL:https://webpicking.com
X-WR-CALDESC:Eventos para Webpicking
BEGIN:VEVENT
DTSTART;TZID=America/Argentina/Buenos_Aires:20250520T080000
DTEND;TZID=America/Argentina/Buenos_Aires:20250520T170000
DTSTAMP:20260422T110730
CREATED:20250520T032327Z
LAST-MODIFIED:20250520T032327Z
UID:38254-1747728000-1747760400@webpicking.com
SUMMARY:Programa Intensivo en Centros de Distribución. Módulo 3
DESCRIPTION:
URL:https://webpicking.com/event/programa-intensivo-en-centros-de-distribucion-modulo-3/
LOCATION:Online
CATEGORIES:ARGENTINA
ORGANIZER;CN="Asociaci%C3%B3n%20Argentina%20de%20Log%C3%ADstica%20Empresaria%20%28ARLOG%29":MAILTO:edu@arlog.org
END:VEVENT
END:VCALENDAR