BEGIN:VCALENDAR
VERSION:2.0
PRODID:-//Webpicking - ECPv4.6.26.1//NONSGML v1.0//EN
CALSCALE:GREGORIAN
METHOD:PUBLISH
X-WR-CALNAME:Webpicking
X-ORIGINAL-URL:https://webpicking.com
X-WR-CALDESC:Eventos para Webpicking
BEGIN:VEVENT
DTSTART;VALUE=DATE:20200609
DTEND;VALUE=DATE:20200610
DTSTAMP:20260420T185917
CREATED:20200422T165103Z
LAST-MODIFIED:20200422T165103Z
UID:20055-1591660800-1591747199@webpicking.com
SUMMARY:Programa Intensivo en Centro de Distribución ONLINE- Módulo 4
DESCRIPTION:
URL:https://webpicking.com/event/programa-intensivo-en-centro-de-distribucion-online-modulo-4/
LOCATION:Online
CATEGORIES:Online
ORGANIZER;CN="Asociaci%C3%B3n%20Argentina%20de%20Log%C3%ADstica%20Empresaria%20%28ARLOG%29":MAILTO:edu@arlog.org
END:VEVENT
END:VCALENDAR