BEGIN:VCALENDAR
VERSION:2.0
PRODID:-//Webpicking - ECPv4.6.26.1//NONSGML v1.0//EN
CALSCALE:GREGORIAN
METHOD:PUBLISH
X-WR-CALNAME:Webpicking
X-ORIGINAL-URL:https://webpicking.com
X-WR-CALDESC:Eventos para Webpicking
BEGIN:VEVENT
DTSTART;VALUE=DATE:20170905
DTEND;VALUE=DATE:20170906
DTSTAMP:20260420T163621
CREATED:20170829T053303Z
LAST-MODIFIED:20170829T053303Z
UID:8989-1504569600-1504655999@webpicking.com
SUMMARY:Programa Ejecutivo en Supply Chain Management
DESCRIPTION:
URL:https://webpicking.com/event/programa-ejecutivo-en-supply-chain-management/
LOCATION:Consultar al organizador – BsAs\, Ciudad Autónoma de Buenos Aires\, Argentina
CATEGORIES:ARGENTINA
END:VEVENT
END:VCALENDAR