BEGIN:VCALENDAR
VERSION:2.0
PRODID:-//Webpicking - ECPv4.6.26.1//NONSGML v1.0//EN
CALSCALE:GREGORIAN
METHOD:PUBLISH
X-WR-CALNAME:Webpicking
X-ORIGINAL-URL:https://webpicking.com
X-WR-CALDESC:Eventos para Webpicking
BEGIN:VEVENT
DTSTART;VALUE=DATE:20260317
DTEND;VALUE=DATE:20260321
DTSTAMP:20260422T074957
CREATED:20250729T233226Z
LAST-MODIFIED:20250729T233226Z
UID:38905-1773705600-1774051199@webpicking.com
SUMMARY:LIFE 2026
DESCRIPTION:
URL:https://webpicking.com/event/life-2026/
LOCATION:Consultar al organizador – PAN\, Panamá\, Panamá
CATEGORIES:PANAMÁ
END:VEVENT
END:VCALENDAR