BEGIN:VCALENDAR
VERSION:2.0
PRODID:-//Webpicking - ECPv4.6.26.1//NONSGML v1.0//EN
CALSCALE:GREGORIAN
METHOD:PUBLISH
X-WR-CALNAME:Webpicking
X-ORIGINAL-URL:https://webpicking.com
X-WR-CALDESC:Eventos para Webpicking
BEGIN:VEVENT
DTSTART;VALUE=DATE:20170919
DTEND;VALUE=DATE:20170922
DTSTAMP:20260425T015854
CREATED:20170223T192633Z
LAST-MODIFIED:20170223T192633Z
UID:6602-1505779200-1506038399@webpicking.com
SUMMARY:Jornada Top Flotillas
DESCRIPTION:
URL:https://webpicking.com/event/jornada-top-flotillas/
LOCATION:Consultar al organizador – CANC\, Cancún\, México
CATEGORIES:MEXICO
ORGANIZER;CN="Reed%20Exhibitions":MAILTO:info@ecommsummitexpo.com
END:VEVENT
END:VCALENDAR