BEGIN:VCALENDAR
VERSION:2.0
PRODID:-//Webpicking - ECPv4.6.26.1//NONSGML v1.0//EN
CALSCALE:GREGORIAN
METHOD:PUBLISH
X-WR-CALNAME:Webpicking
X-ORIGINAL-URL:https://webpicking.com
X-WR-CALDESC:Eventos para Webpicking
BEGIN:VEVENT
DTSTART;VALUE=DATE:20160720
DTEND;VALUE=DATE:20160721
DTSTAMP:20260422T051658
CREATED:20160715T220114Z
LAST-MODIFIED:20160715T220114Z
UID:2597-1468972800-1469059199@webpicking.com
SUMMARY:jornada: Caminos Rurales. Un freno para el desarrollo
DESCRIPTION:
URL:https://webpicking.com/event/jornada-caminos-rurales-un-freno-para-el-desarrollo/
LOCATION:La Rural\, Av. Sarmiento 2704\, Buenos Aires\, Buenos Aires\, 1425FGP\, Argentina
CATEGORIES:ARGENTINA
ORGANIZER;CN="Asociaci%C3%B3n%20Argentina%20de%20Carreteras":MAILTO:secretaria@aacarreteras.org.ar
END:VEVENT
END:VCALENDAR