BEGIN:VCALENDAR
VERSION:2.0
PRODID:-//Webpicking - ECPv4.6.26.1//NONSGML v1.0//EN
CALSCALE:GREGORIAN
METHOD:PUBLISH
X-WR-CALNAME:Webpicking
X-ORIGINAL-URL:https://webpicking.com
X-WR-CALDESC:Eventos para Webpicking
BEGIN:VEVENT
DTSTART;VALUE=DATE:20200603
DTEND;VALUE=DATE:20200604
DTSTAMP:20260420T123648
CREATED:20200529T161923Z
LAST-MODIFIED:20200529T161923Z
UID:20579-1591142400-1591228799@webpicking.com
SUMMARY:Foro: Perfil marítimo del Perú y el plan de acción de la UNCTAD ante el COVID-19
DESCRIPTION:
URL:https://webpicking.com/event/foro-perfil-maritimo-del-peru-y-el-plan-de-accion-de-la-unctad-ante-el-covid-19/
LOCATION:Online
CATEGORIES:Online
END:VEVENT
END:VCALENDAR