BEGIN:VCALENDAR
VERSION:2.0
PRODID:-//Webpicking - ECPv4.6.26.1//NONSGML v1.0//EN
CALSCALE:GREGORIAN
METHOD:PUBLISH
X-WR-CALNAME:Webpicking
X-ORIGINAL-URL:https://webpicking.com
X-WR-CALDESC:Eventos para Webpicking
BEGIN:VEVENT
DTSTART;TZID=America/Argentina/Buenos_Aires:20170417T000000
DTEND;TZID=America/Argentina/Buenos_Aires:20170417T000000
DTSTAMP:20260419T124354
CREATED:20170324T191053Z
LAST-MODIFIED:20170324T191053Z
UID:6971-1492387200-1492387200@webpicking.com
SUMMARY:Especialización online en Supply Chain Management
DESCRIPTION:
URL:https://webpicking.com/event/especializacion-online-en-supply-chain-management/
CATEGORIES:Online
ORGANIZER;CN="Global%20Lean":MAILTO:info@globallean.net
END:VEVENT
END:VCALENDAR