BEGIN:VCALENDAR
VERSION:2.0
PRODID:-//Webpicking - ECPv4.6.26.1//NONSGML v1.0//EN
CALSCALE:GREGORIAN
METHOD:PUBLISH
X-WR-CALNAME:Webpicking
X-ORIGINAL-URL:https://webpicking.com
X-WR-CALDESC:Eventos para Webpicking
BEGIN:VEVENT
DTSTART;VALUE=DATE:20230220
DTEND;VALUE=DATE:20230221
DTSTAMP:20260421T131719
CREATED:20230130T173945Z
LAST-MODIFIED:20230130T173945Z
UID:31568-1676851200-1676937599@webpicking.com
SUMMARY:Diplomado: Gerencia logística
DESCRIPTION:
URL:https://webpicking.com/event/diplomado-gerencia-logistica/
LOCATION:Online
CATEGORIES:Online
ORGANIZER;CN="High%20Logistic%20Group":MAILTO:logistics@logisticaonline.com
END:VEVENT
END:VCALENDAR