BEGIN:VCALENDAR
VERSION:2.0
PRODID:-//Webpicking - ECPv4.6.26.1//NONSGML v1.0//EN
CALSCALE:GREGORIAN
METHOD:PUBLISH
X-WR-CALNAME:Webpicking
X-ORIGINAL-URL:https://webpicking.com
X-WR-CALDESC:Eventos para Webpicking
BEGIN:VEVENT
DTSTART;VALUE=DATE:20160430
DTEND;VALUE=DATE:20160501
DTSTAMP:20260424T220558
CREATED:20160401T193031Z
LAST-MODIFIED:20160401T193141Z
UID:1115-1461974400-1462060799@webpicking.com
SUMMARY:Diplomado Especializado en Transporte - CEFOTRANS
DESCRIPTION:
URL:https://webpicking.com/event/diplomado-especializado-en-transporte-cefotrans/
LOCATION:San Isidro\, Perú
CATEGORIES:PERÚ
ORGANIZER;CN="CEFORTRANS":MAILTO:info@cefortrans.com 
END:VEVENT
END:VCALENDAR