BEGIN:VCALENDAR
VERSION:2.0
PRODID:-//Webpicking - ECPv4.6.26.1//NONSGML v1.0//EN
CALSCALE:GREGORIAN
METHOD:PUBLISH
X-WR-CALNAME:Webpicking
X-ORIGINAL-URL:https://webpicking.com
X-WR-CALDESC:Eventos para Webpicking
BEGIN:VEVENT
DTSTART;TZID=America/Argentina/Buenos_Aires:20170913T080000
DTEND;TZID=America/Argentina/Buenos_Aires:20170913T103000
DTSTAMP:20260424T130120
CREATED:20170822T044434Z
LAST-MODIFIED:20170822T044434Z
UID:8906-1505289600-1505298600@webpicking.com
SUMMARY:Desayuno: Rol del Centro de Distribución como Pilar Estratégico en su Empresa
DESCRIPTION:
URL:https://webpicking.com/event/desayuno-rol-del-centro-de-distribucion-como-pilar-estrategico-en-su-empresa/
LOCATION:Consultar al organizador – LIMA\, Lima\, Perú
CATEGORIES:PERÚ
ORGANIZER;CN="SDI%20SYSTEMS":MAILTO:educacion@sdi.systems
END:VEVENT
END:VCALENDAR