BEGIN:VCALENDAR
VERSION:2.0
PRODID:-//Webpicking - ECPv4.6.26.1//NONSGML v1.0//EN
CALSCALE:GREGORIAN
METHOD:PUBLISH
X-WR-CALNAME:Webpicking
X-ORIGINAL-URL:https://webpicking.com
X-WR-CALDESC:Eventos para Webpicking
BEGIN:VEVENT
DTSTART;VALUE=DATE:20161004
DTEND;VALUE=DATE:20161005
DTSTAMP:20260422T062440
CREATED:20160927T044850Z
LAST-MODIFIED:20160927T045635Z
UID:3657-1475539200-1475625599@webpicking.com
SUMMARY:Desayuno: Aplicaciones Tecnológicas en Seguridad
DESCRIPTION:
URL:https://webpicking.com/event/desayuno-aplicaciones-tecnologicas-en-seguridad/
LOCATION:Consultar al organizador – BsAs\, Ciudad Autónoma de Buenos Aires\, Argentina
CATEGORIES:ARGENTINA
ORGANIZER;CN="Pointer%20Argentina":MAILTO:info@pointer.com.ar
END:VEVENT
END:VCALENDAR