BEGIN:VCALENDAR
VERSION:2.0
PRODID:-//Webpicking - ECPv4.6.26.1//NONSGML v1.0//EN
CALSCALE:GREGORIAN
METHOD:PUBLISH
X-WR-CALNAME:Webpicking
X-ORIGINAL-URL:https://webpicking.com
X-WR-CALDESC:Eventos para Webpicking
BEGIN:VEVENT
DTSTART;VALUE=DATE:20160502
DTEND;VALUE=DATE:20160503
DTSTAMP:20260425T005959
CREATED:20160428T162010Z
LAST-MODIFIED:20160428T162010Z
UID:1486-1462147200-1462233599@webpicking.com
SUMMARY:Curso:Seguros en la Cadena Logística - ARLOG
DESCRIPTION:
URL:https://webpicking.com/event/cursoseguros-en-la-cadena-logistica-arlog/
LOCATION:Consultar al organizador – BsAs\, Ciudad Autónoma de Buenos Aires\, Argentina
CATEGORIES:ARGENTINA
ORGANIZER;CN="Asociaci%C3%B3n%20Argentina%20de%20Log%C3%ADstica%20Empresaria%20%28ARLOG%29":MAILTO:edu@arlog.org
END:VEVENT
END:VCALENDAR