BEGIN:VCALENDAR
VERSION:2.0
PRODID:-//Webpicking - ECPv4.6.26.1//NONSGML v1.0//EN
CALSCALE:GREGORIAN
METHOD:PUBLISH
X-WR-CALNAME:Webpicking
X-ORIGINAL-URL:https://webpicking.com
X-WR-CALDESC:Eventos para Webpicking
BEGIN:VEVENT
DTSTART;VALUE=DATE:20160721
DTEND;VALUE=DATE:20160722
DTSTAMP:20260424T022751
CREATED:20160610T181826Z
LAST-MODIFIED:20160610T181827Z
UID:2115-1469059200-1469145599@webpicking.com
SUMMARY:Curso: Taller de estadística aplicada a la logística - ARLOG
DESCRIPTION:
URL:https://webpicking.com/event/curso-taller-de-estadistica-aplicada-a-la-logistica-arlog/
LOCATION:Consultar al organizador – BsAs\, Ciudad Autónoma de Buenos Aires\, Argentina
CATEGORIES:ARGENTINA
ORGANIZER;CN="Asociaci%C3%B3n%20Argentina%20de%20Log%C3%ADstica%20Empresaria%20%28ARLOG%29":MAILTO:edu@arlog.org
END:VEVENT
END:VCALENDAR