BEGIN:VCALENDAR
VERSION:2.0
PRODID:-//Webpicking - ECPv4.6.26.1//NONSGML v1.0//EN
CALSCALE:GREGORIAN
METHOD:PUBLISH
X-WR-CALNAME:Webpicking
X-ORIGINAL-URL:https://webpicking.com
X-WR-CALDESC:Eventos para Webpicking
BEGIN:VEVENT
DTSTART;VALUE=DATE:20230214
DTEND;VALUE=DATE:20230217
DTSTAMP:20260421T221225
CREATED:20230130T173802Z
LAST-MODIFIED:20230130T173802Z
UID:31564-1676332800-1676591999@webpicking.com
SUMMARY:Curso: Ruteo y distribución
DESCRIPTION:
URL:https://webpicking.com/event/curso-ruteo-y-distribucion/
LOCATION:Online
CATEGORIES:Online
ORGANIZER;CN="High%20Logistic%20Group":MAILTO:logistics@logisticaonline.com
END:VEVENT
END:VCALENDAR