BEGIN:VCALENDAR
VERSION:2.0
PRODID:-//Webpicking - ECPv4.6.26.1//NONSGML v1.0//EN
CALSCALE:GREGORIAN
METHOD:PUBLISH
X-WR-CALNAME:Webpicking
X-ORIGINAL-URL:https://webpicking.com
X-WR-CALDESC:Eventos para Webpicking
BEGIN:VEVENT
DTSTART;VALUE=DATE:20211115
DTEND;VALUE=DATE:20211116
DTSTAMP:20260424T233847
CREATED:20211105T032408Z
LAST-MODIFIED:20211105T032408Z
UID:27095-1636934400-1637020799@webpicking.com
SUMMARY:Curso online: Especialización en Gestión de Comercio Exterior
DESCRIPTION:
URL:https://webpicking.com/event/curso-online-especializacion-en-gestion-de-comercio-exterior/
LOCATION:Online
CATEGORIES:Online
END:VEVENT
END:VCALENDAR