BEGIN:VCALENDAR
VERSION:2.0
PRODID:-//Webpicking - ECPv4.6.26.1//NONSGML v1.0//EN
CALSCALE:GREGORIAN
METHOD:PUBLISH
X-WR-CALNAME:Webpicking
X-ORIGINAL-URL:https://webpicking.com
X-WR-CALDESC:Eventos para Webpicking
BEGIN:VEVENT
DTSTART;TZID=America/Argentina/Buenos_Aires:20181016T080000
DTEND;TZID=America/Argentina/Buenos_Aires:20181018T170000
DTSTAMP:20260419T211321
CREATED:20181002T221804Z
LAST-MODIFIED:20181002T221804Z
UID:13874-1539676800-1539882000@webpicking.com
SUMMARY:Curso Online de Planeación de la Demanda
DESCRIPTION:
URL:https://webpicking.com/event/curso-online-de-planeacion-de-la-demanda/
LOCATION:Online
CATEGORIES:Online
ORGANIZER;CN="High%20Logistic%20Group":MAILTO:logistics@logisticaonline.com
END:VEVENT
END:VCALENDAR