BEGIN:VCALENDAR
VERSION:2.0
PRODID:-//Webpicking - ECPv4.6.26.1//NONSGML v1.0//EN
CALSCALE:GREGORIAN
METHOD:PUBLISH
X-WR-CALNAME:Webpicking
X-ORIGINAL-URL:https://webpicking.com
X-WR-CALDESC:Eventos para Webpicking
BEGIN:VEVENT
DTSTART;VALUE=DATE:20160428
DTEND;VALUE=DATE:20160429
DTSTAMP:20260424T203629
CREATED:20160323T033521Z
LAST-MODIFIED:20160323T033521Z
UID:947-1461801600-1461887999@webpicking.com
SUMMARY:Curso: Liderazgo e Implantación - Global Lean
DESCRIPTION:
URL:https://webpicking.com/event/curso-liderazgo-e-implantacion-global-lean/
LOCATION:Consultar al organizador – MAD\, Madrid\, España
CATEGORIES:ESPAÑA
ORGANIZER;CN="Global%20Lean":MAILTO:info@globallean.net
END:VEVENT
END:VCALENDAR