BEGIN:VCALENDAR
VERSION:2.0
PRODID:-//Webpicking - ECPv4.6.26.1//NONSGML v1.0//EN
CALSCALE:GREGORIAN
METHOD:PUBLISH
X-WR-CALNAME:Webpicking
X-ORIGINAL-URL:https://webpicking.com
X-WR-CALDESC:Eventos para Webpicking
BEGIN:VEVENT
DTSTART;VALUE=DATE:20160426
DTEND;VALUE=DATE:20160427
DTSTAMP:20260425T034140
CREATED:20160323T033359Z
LAST-MODIFIED:20160323T033359Z
UID:946-1461628800-1461715199@webpicking.com
SUMMARY:Curso: Lean Office - Global Lean
DESCRIPTION:
URL:https://webpicking.com/event/curso-lean-office-global-lean/
LOCATION:Consultar al organizador – BCN\, Barcelona\, España
CATEGORIES:ESPAÑA
ORGANIZER;CN="Global%20Lean":MAILTO:info@globallean.net
END:VEVENT
END:VCALENDAR