BEGIN:VCALENDAR
VERSION:2.0
PRODID:-//Webpicking - ECPv4.6.26.1//NONSGML v1.0//EN
CALSCALE:GREGORIAN
METHOD:PUBLISH
X-WR-CALNAME:Webpicking
X-ORIGINAL-URL:https://webpicking.com
X-WR-CALDESC:Eventos para Webpicking
BEGIN:VEVENT
DTSTART;VALUE=DATE:20160705
DTEND;VALUE=DATE:20160706
DTSTAMP:20260422T170708
CREATED:20160624T195201Z
LAST-MODIFIED:20160624T195201Z
UID:2322-1467676800-1467763199@webpicking.com
SUMMARY:Curso: Fundamentos Logísticos Gerenciales - IEEC
DESCRIPTION:
URL:https://webpicking.com/event/curso-fundamentos-logisticos-gerenciales-ieec/
LOCATION:Online
CATEGORIES:ARGENTINA
ORGANIZER;CN="IEEC":MAILTO:admisiones@ieec.edu.ar
END:VEVENT
END:VCALENDAR