BEGIN:VCALENDAR
VERSION:2.0
PRODID:-//Webpicking - ECPv4.6.26.1//NONSGML v1.0//EN
CALSCALE:GREGORIAN
METHOD:PUBLISH
X-WR-CALNAME:Webpicking
X-ORIGINAL-URL:https://webpicking.com
X-WR-CALDESC:Eventos para Webpicking
BEGIN:VEVENT
DTSTART;TZID=America/Argentina/Buenos_Aires:20181018T000000
DTEND;TZID=America/Argentina/Buenos_Aires:20181018T000000
DTSTAMP:20260420T102217
CREATED:20180522T231107Z
LAST-MODIFIED:20180522T231107Z
UID:12095-1539820800-1539820800@webpicking.com
SUMMARY:Curso Avanzado en Programas de Mejora Continua Lean Six Sigma
DESCRIPTION:
URL:https://webpicking.com/event/curso-avanzado-en-programas-de-mejora-continua-lean-six-sigma/
CATEGORIES:ESPAÑA
ORGANIZER;CN="Global%20Lean":MAILTO:info@globallean.net
END:VEVENT
END:VCALENDAR