BEGIN:VCALENDAR
VERSION:2.0
PRODID:-//Webpicking - ECPv4.6.26.1//NONSGML v1.0//EN
CALSCALE:GREGORIAN
METHOD:PUBLISH
X-WR-CALNAME:Webpicking
X-ORIGINAL-URL:https://webpicking.com
X-WR-CALDESC:Eventos para Webpicking
BEGIN:VEVENT
DTSTART;VALUE=DATE:20220416
DTEND;VALUE=DATE:20220417
DTSTAMP:20260426T021154
CREATED:20220405T040259Z
LAST-MODIFIED:20220405T040259Z
UID:28677-1650067200-1650153599@webpicking.com
SUMMARY:Curso: Análisis para la Gestión Integral de Costos
DESCRIPTION:
URL:https://webpicking.com/event/curso-analisis-para-la-gestion-integral-de-costos-3/
LOCATION:Online
CATEGORIES:Online
ORGANIZER;CN="Asociaci%C3%B3n%20Argentina%20de%20Log%C3%ADstica%20Empresaria%20%28ARLOG%29":MAILTO:edu@arlog.org
END:VEVENT
END:VCALENDAR