BEGIN:VCALENDAR
VERSION:2.0
PRODID:-//Webpicking - ECPv4.6.26.1//NONSGML v1.0//EN
CALSCALE:GREGORIAN
METHOD:PUBLISH
X-WR-CALNAME:Webpicking
X-ORIGINAL-URL:https://webpicking.com
X-WR-CALDESC:Eventos para Webpicking
BEGIN:VEVENT
DTSTART;VALUE=DATE:20211124
DTEND;VALUE=DATE:20211127
DTSTAMP:20260424T181619
CREATED:20211019T182343Z
LAST-MODIFIED:20211019T182343Z
UID:26889-1637712000-1637971199@webpicking.com
SUMMARY:Congreso de transporte de carga y logística Colfecar
DESCRIPTION:
URL:https://webpicking.com/event/congreso-de-transporte-de-carga-y-logistica-colfecar/
LOCATION:Consultar al organizador – CART\, Cartagena\, Colombia
CATEGORIES:COLOMBIA
ORGANIZER;CN="COLFECAR":MAILTO:info@colfecar.org.co
END:VEVENT
END:VCALENDAR