BEGIN:VCALENDAR
VERSION:2.0
PRODID:-//Webpicking - ECPv4.6.26.1//NONSGML v1.0//EN
CALSCALE:GREGORIAN
METHOD:PUBLISH
X-WR-CALNAME:Webpicking
X-ORIGINAL-URL:https://webpicking.com
X-WR-CALDESC:Eventos para Webpicking
BEGIN:VEVENT
DTSTART;VALUE=DATE:20160427
DTEND;VALUE=DATE:20160428
DTSTAMP:20260424T220344
CREATED:20160415T172000Z
LAST-MODIFIED:20160415T172000Z
UID:1312-1461715200-1461801599@webpicking.com
SUMMARY:Conferencia: La huella de carbono - UTN Avellaneda
DESCRIPTION:
URL:https://webpicking.com/event/conferencia-la-huella-de-carbono-utn-avellaneda/
LOCATION:Consultar al organizador – BsAs\, Ciudad Autónoma de Buenos Aires\, Argentina
CATEGORIES:ARGENTINA
ORGANIZER;CN="Universidad%20Tecnol%C3%B3gica%20Nacional.%20Facultad%20Regional%20Avellaneda":MAILTO:pyd@fra.utn.edu.ar
END:VEVENT
END:VCALENDAR