BEGIN:VCALENDAR
VERSION:2.0
PRODID:-//Webpicking - ECPv4.6.26.1//NONSGML v1.0//EN
CALSCALE:GREGORIAN
METHOD:PUBLISH
X-WR-CALNAME:Webpicking
X-ORIGINAL-URL:https://webpicking.com
X-WR-CALDESC:Eventos para Webpicking
BEGIN:VEVENT
DTSTART;VALUE=DATE:20160811
DTEND;VALUE=DATE:20160813
DTSTAMP:20260421T224117
CREATED:20160720T211741Z
LAST-MODIFIED:20160720T211741Z
UID:2664-1470873600-1471046399@webpicking.com
SUMMARY:Colombian Oil and Gas Offshore Conference
DESCRIPTION:
URL:https://webpicking.com/event/colombian-oil-and-gas-offshore-conference/
LOCATION:Consultar al organizador – CART\, Cartagena\, Colombia
CATEGORIES:COLOMBIA
ORGANIZER;CN="Asociaci%C3%B3n%20Latinoamericana%20de%20Miner%C3%ADa%20y%20Energ%C3%ADa":MAILTO:comunicaciones@alame.org
END:VEVENT
END:VCALENDAR