BEGIN:VCALENDAR
VERSION:2.0
PRODID:-//Webpicking - ECPv4.6.26.1//NONSGML v1.0//EN
CALSCALE:GREGORIAN
METHOD:PUBLISH
X-WR-CALNAME:Webpicking
X-ORIGINAL-URL:https://webpicking.com
X-WR-CALDESC:Eventos para Webpicking
BEGIN:VEVENT
DTSTART;VALUE=DATE:20230214
DTEND;VALUE=DATE:20230215
DTSTAMP:20260420T033501
CREATED:20230207T034431Z
LAST-MODIFIED:20230207T034431Z
UID:31613-1676332800-1676419199@webpicking.com
SUMMARY:Charla informativa: Diplomatura en Gestión del Transporte de Pasajeros y Cargas
DESCRIPTION:
URL:https://webpicking.com/event/charla-informativa-diplomatura-en-gestion-del-transporte-de-pasajeros-y-cargas/
LOCATION:Online
CATEGORIES:Online
END:VEVENT
END:VCALENDAR