BEGIN:VCALENDAR
VERSION:2.0
PRODID:-//Webpicking - ECPv4.6.26.1//NONSGML v1.0//EN
CALSCALE:GREGORIAN
METHOD:PUBLISH
X-WR-CALNAME:Webpicking
X-ORIGINAL-URL:https://webpicking.com
X-WR-CALDESC:Eventos para Webpicking
BEGIN:VEVENT
DTSTART;VALUE=DATE:20161014
DTEND;VALUE=DATE:20161015
DTSTAMP:20260421T152150
CREATED:20160324T173050Z
LAST-MODIFIED:20160324T173050Z
UID:974-1476403200-1476489599@webpicking.com
SUMMARY:Certificación Yellow Belt Lean Six Sigma – Global Lean
DESCRIPTION:
URL:https://webpicking.com/event/certificacion-yellow-belt-lean-six-sigma-global-lean-2/
LOCATION:Consultar al organizador – MAD\, Madrid\, España
CATEGORIES:ESPAÑA
ORGANIZER;CN="Global%20Lean":MAILTO:info@globallean.net
END:VEVENT
END:VCALENDAR