BEGIN:VCALENDAR
VERSION:2.0
PRODID:-//Webpicking - ECPv4.6.26.1//NONSGML v1.0//EN
CALSCALE:GREGORIAN
METHOD:PUBLISH
X-WR-CALNAME:Webpicking
X-ORIGINAL-URL:https://webpicking.com
X-WR-CALDESC:Eventos para Webpicking
BEGIN:VEVENT
DTSTART;TZID=America/Argentina/Buenos_Aires:20181019T000000
DTEND;TZID=America/Argentina/Buenos_Aires:20181019T000000
DTSTAMP:20260425T195648
CREATED:20180522T231105Z
LAST-MODIFIED:20180522T231106Z
UID:12091-1539907200-1539907200@webpicking.com
SUMMARY:Certificación Lean Yellow Belt
DESCRIPTION:
URL:https://webpicking.com/event/certificacion-lean-yellow-belt-5/
CATEGORIES:ESPAÑA
ORGANIZER;CN="Global%20Lean":MAILTO:info@globallean.net
END:VEVENT
END:VCALENDAR