BEGIN:VCALENDAR
VERSION:2.0
PRODID:-//Webpicking - ECPv4.6.26.1//NONSGML v1.0//EN
CALSCALE:GREGORIAN
METHOD:PUBLISH
X-WR-CALNAME:Webpicking
X-ORIGINAL-URL:https://webpicking.com
X-WR-CALDESC:Eventos para Webpicking
BEGIN:VEVENT
DTSTART;VALUE=DATE:20190717
DTEND;VALUE=DATE:20190719
DTSTAMP:20260424T184547
CREATED:20190711T153238Z
LAST-MODIFIED:20190711T153238Z
UID:17103-1563321600-1563494399@webpicking.com
SUMMARY:5º Taller Zonal de Caminos y Transporte Rural
DESCRIPTION:
URL:https://webpicking.com/event/5o-taller-zonal-de-caminos-y-transporte-rural/
LOCATION:Consultar al organizador – BsAs\, Ciudad Autónoma de Buenos Aires\, Argentina
CATEGORIES:ARGENTINA
END:VEVENT
END:VCALENDAR